BEGIN:VCALENDAR
PRODID:-//Det Danske Spejderkorps//NONSGML Gruppeweb//EN
VERSION:2.0
CALSCALE:GREGORIAN
X-PUBLISHED-TTL:PT1H
X-WR-CALNAME:(Tuli)Klanen
METHOD:PUBLISH
BEGIN:VEVENT
UID:gruppeweb.dk:1615:event:8288
DTSTAMP:20260421T135441Z
LAST-MODIFIED:20250503T100737Z
SUMMARY:A-dag 2025 🛠️🧹🧼
DESCRIPTION:Søndag den 11. maj er det tid til at støve af\, vaske ned\, 
 rydde op\, skrue  \nfast og ordne alle de små ting\, som hytten har behov
  for. Vi glæder os til  \nat se jer allesammen!\n\nA-dag er vores fælles
  arbejdsdag for både spejdere\, forældre\, søskende og  \nandre\, der v
 il give et nap med. Der er rigeligt med opgaver til alle - store  \nsom sm
 å\, trænede som utrænede. \n\nFortæl om I deltager på:\n\n * 🌄 *
 morgenholdet fra 9.30 til 13.30\n   *\n   \n * 👷‍♂️ *eftermiddag
 sholdet fra 12 til 16*\n   \n\nI er selvfølgelig også velkomne til at de
 ltage 💪 *hele dagen. *\n\nTil alle sørger vi for forkælelse med *f
 ælles frokostbord\, kaffe og kage  \nfor alle fra 12 til 13.30.*\n\nSkynd
  jer at trykke på Tilmeld!\n
URL:https://www.1holte.dk/begivenhed/dag-2025
DTSTART:20250511T073000Z
DTEND:20250511T140000Z
LOCATION:1. Holte Gruppe\, Havarthivej 6\, Øverød\, 2840 Holte
END:VEVENT
BEGIN:VEVENT
UID:gruppeweb.dk:1615:event:8335
DTSTAMP:20260421T135441Z
LAST-MODIFIED:20260329T145500Z
SUMMARY:A-dag 2025 🛠️🧹🧼 (kopi)
DESCRIPTION:Søndag den 11. maj er det tid til at støve af\, vaske ned\, 
 rydde op\, skrue  \nfast og ordne alle de små ting\, som hytten har behov
  for. Vi glæder os til  \nat se jer allesammen!\n\nA-dag er vores fælles
  arbejdsdag for både spejdere\, forældre\, søskende og  \nandre\, der v
 il give et nap med. Der er rigeligt med opgaver til alle - store  \nsom sm
 å\, trænede som utrænede. \n\nFortæl om I deltager på:\n\n * 🌄 *
 morgenholdet fra 9.30 til 13.30\n   *\n   \n * 👷‍♂️ *eftermiddag
 sholdet fra 12 til 16*\n   \n\nI er selvfølgelig også velkomne til at de
 ltage 💪 *hele dagen. *\n\nTil alle sørger vi for forkælelse med *f
 ælles frokostbord\, kaffe og kage  \nfor alle fra 12 til 13.30.*\n\nSkynd
  jer at trykke på Tilmeld!\n
URL:https://www.1holte.dk/begivenhed/dag-2025-kopi
DTSTART:20250511T073000Z
DTEND:20250511T140000Z
LOCATION:1. Holte Gruppe\, Havarthivej 6\, Øverød\, 2840 Holte
END:VEVENT
BEGIN:VEVENT
UID:gruppeweb.dk:1615:event:8277
DTSTAMP:20260421T135441Z
LAST-MODIFIED:20250311T185429Z
SUMMARY:Gruppegåtur 2025
DESCRIPTION:Kom og vær med på 1.Holtes årlige - og super hyggelige - gru
 ppegåtur  \ngennem den dejlige natur i vores lokalområde.\n\nEr du til 1
 0\, 20\, 30\, 50 eller 100 km\, så har du chancen 14. og 15.  juni\,  \
 nhvor gruppens /KilometerMand/\, Søren (nuværende turleder i Dansk  \nV
 andrelaug) vil føre dig sikkert frem km efter km.\n\nDet er KUN de\, de
 r skal gå 50 km søndag\, som starter kl. 6 om morgenen.  \nFor os\, der 
 skal gå 10\, 20 eller 30 km\, starter turen først omkring kl. 11  \nfra 
 Havarthigården.\n\nØnsker du at udfordre dig selv og gå 100 km\, så SK
 AL du tilmelde dig til  \nSøren KilometerMand på 2627 4289 INDEN du kan 
 deltage.\n\nVi glæder os til at se rigtig mange spejdere\, deres forældr
 e\,  \nbedsteforældre og evt et par hunde (i snor) på specielt søndagst
 uren.\n\n
URL:https://www.1holte.dk/begivenhed/gruppegaatur-2025
DTSTART:20250615T040000Z
DTEND:20250615T180000Z
LOCATION:1. Holte Gruppe\, Havarthivej 6\, Øverød\, 2840 Holte
END:VEVENT
BEGIN:VEVENT
UID:gruppeweb.dk:1615:event:8294
DTSTAMP:20260421T135441Z
LAST-MODIFIED:20250408T060859Z
SUMMARY:Oprykningsmøde - for ALLE spejdere (2025)
DESCRIPTION:De ældste minier siger farvel til deres kammerater - og rykker
  op i  \njuniorgrenen. \n\nHer tager de yngste godt imod dem - og siger t
 il gengæld farvel til deres  \nældste\, som rykker op til trop. \n\nI t
 roppen bliver der taget vel imod de nye fra juniorgrenen. \n\nOg måske e
 n tropsspejder eller to skal indlemmes på den rigtige måde i  \nklanen..
 .\n\n*\n*\n\n*HUSK:* Mødet er for *alle* spejdere - også selvom man i
 kke rykker op.  \nDet er nemlig også her der uddeleles årsstjerner til u
 niformen! \n\n
URL:https://www.1holte.dk/begivenhed/oprykningsmoede-alle-spejdere-2025
DTSTART:20250820T160000Z
DTEND:20250820T180000Z
LOCATION:1. Holte Gruppe\, Havarthivej 6\, Øverød\, 2840 Holte
END:VEVENT
BEGIN:VEVENT
UID:gruppeweb.dk:1615:event:8308
DTSTAMP:20260421T135441Z
LAST-MODIFIED:20250922T115237Z
SUMMARY:Familieweekend 2025
DESCRIPTION:Vennerne fra Mysteriebanden har brug for hjælp! \n\nSkooby-Do
 o\, Fred\, Susan\, Vera og Stubbe har lagt mærke til nogle  \nmistænkeli
 ge skikkelser i skoven\, og der er noget mystisk under opsejling.  \n1. Ho
 lte er heldigvis ikke blege for et mysterie og som spejdere er vi  \nselvf
 ølgelig beredte på at hjælpe dem\, der har brug for det.\n\nVi invitere
 r derfor alle spejdere og deres familier på tur med hele gruppen:\n\n*Sta
 rt:* Lørdag d. 27. september kl. 09:30 Egemose Centret\, Egemosevej 9\,  
 \nGanløse\, 3660 Stenløse. Her skal vi møde Mysteriebanden og finde ud 
 af\,  \nhvad der foregår i skoven.\n\n*Slut: *Søndag d. 28. september kl
 . 11:00. Her har vi forhåbentlig haft  \nheld med at hjælpe Mysterieband
 en med det mystiske mysterie.\n\nOvernatning foregår i telt. Spejderne so
 ver sammen i spejdertelte\, og  \nfamilierne sover i eget medbragt telt - 
 spørg hvis I vil låne et telt af  \ngruppen. Der er også (begrænsede) 
 muligheder for at sove indendørs i  \nspejderhytten. Men husk at vælge d
 et i tilmeldingen\, så vi ved hvor mange  \ndet drejer sig om.\n\nDet kos
 ter 200 kr. pr. person inkl. forplejning. Hvis man er mere end fire  \nbet
 alende personer fra samme familie koster det 100 kr. for flere. Børn  \nu
 nder 5 år er gratis.\n\nNB: Spejdere kan også deltage uden forældre\, s
 åfremt de bliver  \nmidlertidigt “adopteret” af en anden  sød famil
 ie.\n\nTilmelding lige her* senest d. 16. september*.\n\nNår der er myste
 rier i luften\, ved man aldrig hvad der kan ske. Medbring  \nderfor følge
 nde:\n\n * Praktisk tøj til at være udendørs hele weekenden (tjek vejru
 dsigten!)\n   \n * Tandbørste og tandpasta\n   \n * Sovepose\, liggeunder
 lag og sovebamse\n   \n * Evt. telt\n   \n * Dit allerbedste humør\n   \n
 \n\n\n\n\n\nVi glæder os til at se jer!\n\n
URL:https://www.1holte.dk/begivenhed/familieweekend-2025
DTSTART:20250927T073000Z
DTEND:20250928T090000Z
LOCATION:Egemose Centret\, Egemosevej 9\, 3660 Stenløse
END:VEVENT
BEGIN:VEVENT
UID:gruppeweb.dk:1615:event:8321
DTSTAMP:20260421T135441Z
LAST-MODIFIED:20260225T063837Z
SUMMARY:Gruppeaften 2026
DESCRIPTION:-------- *Invitation til Gruppeaften 2026* --------------------
 ---------------\n\nTorsdag den 26. februar holder vi den årlige generalfo
 rsamling i 1. Holte -  \nogså kendt som Gruppeaften. \n\nKl. 18 starter 
 den traditionsrige aften med et skønt måltid Chili con/sin  \nCarne lave
 t af juniorerne og deres forældre (og måske med lidt hjælp fra  \nandre
 ?). \n\nKl. ca. 19 er der Turbospejd for ALLE\, hvor lederne har fundet 
 på nye  \nspændende aktiviteter og opgaver. \n\nKl. 19:30 spiser vi spe
 jderis\, så de mindste kan komme hjem i seng.\n\nKl. 20 samles de voksne 
 og gennemgår formalierne for det kommende spejderår  \nmed beretninger\,
  visioner\, regnskab og budget. Imens hygger resten af  \nungerne med fil
 m i hytten. \n\n
URL:https://www.1holte.dk/begivenhed/gruppeaften-2026
DTSTART:20260226T170000Z
DTEND:20260226T200000Z
LOCATION:1. Holte Gruppe\, Havarthivej 6\, Øverød\, 2840 Holte
END:VEVENT
BEGIN:VEVENT
UID:gruppeweb.dk:1615:event:8301
DTSTAMP:20260421T135441Z
LAST-MODIFIED:20260329T145504Z
SUMMARY:🛠️ A-dag 2026 🕸️🧽
DESCRIPTION:Så smøger vi ærmerne op\, fylder gulvspanden\, fatter hammer
 en og... ja alle  \nde andre ting man gør\, når der skal fikses\, ordnes
 \, renses og smøres i  \nhytten. \nÅrets A-dag ligger *s*øndag den 10.
  maj. Og vi glæder os til at se jer  \nallesammen!\n\nA-dag er vores fæl
 les arbejdsdag for både spejdere\, forældre\, søskende og  \nandre\, de
 r vil give et nap med. Der er rigeligt med opgaver til alle - store  \nsom
  små\, trænede som utrænede. \n\nFortæl om I deltager på:\n\n * 🌄
  *morgenholdet fra 9.30 til 13.30\n   *\n   \n * 👷‍♂️ *eftermid
 dagsholdet fra 12 til 16*\n   \n\nI er selvfølgelig også velkomne til at
  deltage 💪 *hele dagen. *\n\nTil alle sørger vi for forkælelse med 
 *fælles frokostbord\, kaffe og kage  \nfor alle fra 12 til 13.30.*\n\nSky
 nd jer at trykke på Tilmeld!\n
URL:https://www.1holte.dk/begivenhed/dag-2026
DTSTART:20260510T073000Z
DTEND:20260510T140000Z
LOCATION:1. Holte Gruppe\, Havarthivej 6\, Øverød\, 2840 Holte
END:VEVENT
BEGIN:VEVENT
UID:gruppeweb.dk:1615:event:8307
DTSTAMP:20260421T135441Z
LAST-MODIFIED:20251026T144727Z
SUMMARY:Gruppegåtur 2026
DESCRIPTION:Kom og vær med på 1.Holtes årlige - og super hyggelige - gru
 ppegåtur  \ngennem den dejlige natur i vores lokalområde.\n\nEr du til 1
 0\, 20\, 30\, 50 eller 100 km\, så har du chancen 14. og 15.  juni\,  \
 nhvor gruppens /KilometerMand/\, Søren (nuværende turleder i Dansk  \nV
 andrelaug) vil føre dig sikkert frem km efter km.\n\nDet er KUN de\, de
 r skal gå 50 km søndag\, som starter kl. 6 om morgenen.  \nFor os\, der 
 skal gå 10\, 20 eller 30 km\, starter turen først omkring kl. 11  \nfra 
 Havarthigården.\n\nØnsker du at udfordre dig selv og gå 100 km\, så SK
 AL du tilmelde dig til  \nSøren KilometerMand på 2627 4289 INDEN du kan 
 deltage.\n\nVi glæder os til at se rigtig mange spejdere\, deres forældr
 e\,  \nbedsteforældre og evt et par hunde (i snor) på specielt søndagst
 uren.\n\n
URL:https://www.1holte.dk/begivenhed/gruppegaatur-2026
DTSTART:20260614T040000Z
DTEND:20260614T180000Z
LOCATION:1. Holte Gruppe\, Havarthivej 6\, Øverød\, 2840 Holte
END:VEVENT
BEGIN:VEVENT
UID:gruppeweb.dk:1615:event:8336
DTSTAMP:20260421T135441Z
LAST-MODIFIED:20260329T150758Z
SUMMARY:🔥Sankt Hans 2026
DESCRIPTION:Tirsdag den 23. juni mødes vi traditionen tro omkring et stort
  flot Sankt  \nHans bål 🔥\n\nDu tager du din egen mad\, drikke\, servi
 ce og familien under armen - hunden  \nbeder vi dig dog om at lade blive h
 jemme 🙏\n\nKl. 18 mødes vi ved hytten. Her spiser vi - nogen har det h
 ele klar  \nhjemmefra andre griller på stedet.\n\nNår vi har spist tænd
 er bålet\, måske er der båltale og måske er der  \nogså snobrødsdej.
 \n\nOg til sidst ønsker vi hinanden rigtig god sommer! 😎🌞\n\nFortæ
 l os om du kommer ved at tilmelde jer lige her!\n\n
URL:https://www.1holte.dk/begivenhed/sankt-hans-2026
DTSTART:20260623T160000Z
DTEND:20260623T200000Z
LOCATION:1. Holte Gruppe\, Havarthivej 6\, Øverød\, 2840 Holte
END:VEVENT
BEGIN:VEVENT
UID:gruppeweb.dk:1615:event:8309
DTSTAMP:20260421T135441Z
LAST-MODIFIED:20251225T111012Z
SUMMARY:Spejdernes Lejr 2026
DESCRIPTION:Spejdernes Lejr foregår fra *18. til 26. juli 2026 i Hedeland 
 Naturpark*.  \nDet er otte dage fulde af sjove aktiviteter\, nye venskaber
 \, store oplevelser  \nog masser af spejderliv sammen med dem du kender fr
 a gruppen\, men med rig  \nmulighed for at møde spejdere på tværs af ko
 rps fra resten af Danmark og  \nhele verden. \n\n Hvorfor skal du med p
 å Spejdernes Lejr 2026?\nSpejdernes Lejr er en lidt større oplevelse\, e
 nd du er vant til fra  \ngruppeture og centerlejre. Lejren foregår hvert 
 fjerde år forskellige  \nsteder i Danmark. Hvis du tager med på Spejdern
 es Lejr 2026 får du:\n\n * En hel uge fyldt med aktiviteter\, udfordringe
 r og oplevelser.\n   \n * Et unikt fællesskab med spejdere fra hele lande
 t (og resten af verden).\n   \n * Oplevelsen af en spejderby\, hvor 30.000
  af børn\, unge og voksne bor\,\n   leger\, lærer og arbejder sammen.\n 
   \n * Minder for livet!\n   \n\nTidlig tilmelding er nødvendig\, både a
 f hensyn til planlægning og af  \nhensyn til prisen. \n\nFor at tilmelde
  en spejder (Mini\, Junior eller Trop) benyt denne  \ntilmelding: https:/
 /www.1holte.dk/begivenhed/minijuniortrop-tilmelding-sl-2026  \n[1]\n\nFor 
 at tilmelde dig som leder\, klan eller hjælper benyt denne  \ntilmelding:
  https://www.1holte.dk/begivenhed/lederklanhjaelper-tilmelding-sl-2026  
  \n[2]\n\n\n\n[1] https://www.1holte.dk/begivenhed/minijuniortrop-tilmeldi
 ng-sl-2026\n[2] https://www.1holte.dk/begivenhed/lederklanhjaelper-tilmeld
 ing-sl-2026\n
URL:https://www.1holte.dk/begivenhed/spejdernes-lejr-2026
DTSTART;VALUE=DATE:20260718
DTEND;VALUE=DATE:20260727
LOCATION:Hedeland Naturpark\, Tranemosevej\, 2640 Hedehusene
END:VEVENT
BEGIN:VEVENT
UID:gruppeweb.dk:1615:event:8319
DTSTAMP:20260421T135441Z
LAST-MODIFIED:20260209T133803Z
SUMMARY:Leder/Klan/Hjælper tilmelding - SL 2026
DESCRIPTION:BEMÆRK: Benyt DENNE tilmelding\, hvis du deltager som leder\,
  klanspejder  \neller hjælper.\nHvis du skal tilmelde en spejder (Mini\, 
 Junior eller Trop) skal du benytte  \nden anden tilmelding på vores hjemm
 eside.\n\n-------- Hele gruppen skal på Spejdernes Lejr 2026! -----------
 --------------\n\nI sommeren 2026 samles 30.000 spejdere fra hele Danmark 
 og verden til  \nSpejdernes Lejr. Det er Nordens største spejderlejr. Det
  MÅ du ikke gå  \nglip af!\n\nHvor foregår lejren? Hedeland Naturpark 
 ved Roskilde.\n\nHvordan kommer vi derhen? Vi kører til og fra med fæll
 es i bus fra et  \nopsamlingssted i kommunen (formentlig en station).\n\n*
 Hvornår er det? *Spejdernes Lejr er fra lørdag den 18. juli til sønda
 g  \nden 26. juli. Du kan i tilmeldingen vælge om du vil deltage i hele 
 lejren  \neller kun noget af den.\n\nHvad koster det? Prisen afhænger af
  om du deltager som leder (gruppen  \nbetaler) eller som spejder (du betal
 er). Dette udregnes i tilmeldingen. \n\nPriserne er fastsat af Spejdernes
  Lejr og inkluderer alle aktiviteter\,  \ntransport\, fysiske infrastrukt
 ur (toiletter\, vandforsyning\, etc.)\, beredskab\,  \nmad som er 100% veg
 etarisk og primært økologisk samt alt omkring  \nplanlægning og nedbryd
 ning af lejren. \n\nHvornår skal jeg tilmelde mig? Nu - og SENEST den 
 8. februar! Vi  \nkan ikke garantere plads efter denne dato.  \n\nLej
 rpladser tildeles tidligt i foråret efter antallet af tilmeldte fra  \ngr
 uppen. Derfor skal vi vide\, hvor mange der deltager snarest muligt.  \n
 Eftertilmeldinger vil kun være muligt i yderst begrænset omfang og til e
 n  \nhøjere pris. \n\nVed framelding refunderes deltagerprisen fratrukke
 t afmeldingsgebyr fastsat  \naf Spejdernes Lejr.\n\n
URL:https://www.1holte.dk/begivenhed/lederklanhjaelper-tilmelding-sl-2026
DTSTART:20260718T070000Z
DTEND:20260726T130000Z
LOCATION:Hedeland Naturpark\, Tranemosevej\, 2640 Hedehusene
END:VEVENT
BEGIN:VEVENT
UID:gruppeweb.dk:1615:event:8320
DTSTAMP:20260421T135441Z
LAST-MODIFIED:20260226T132814Z
SUMMARY:Mini/Junior/Trop tilmelding - SL 2026
DESCRIPTION:*BEMÆRK:* Benyt DENNE tilmelding\, hvis du deltager som MINI\,
  JUNIOR eller  \nTROP.\nSkal du tilmeldes som leder\, klan eller hjælper 
 skal du benytte den anden  \ntilmelding på vores hjemmeside.\n\n-------- 
 Hele gruppen skal på Spejdernes Lejr 2026! -------------------------\n\nI
  sommeren 2026 samles 30.000 spejdere fra hele Danmark og verden til  \nSp
 ejdernes Lejr. Det er Nordens største spejderlejr. Det MÅ du ikke gå  \
 nglip af!\n\nHvor foregår lejren? Hedeland Naturpark ved Roskilde.\n\n*H
 vordan kommer vi derhen?* Vi kører til og fra med fælles i bus fra et  
 \nopsamlingssted i kommunen (formentlig en station)\n\n*Hvornår er det?*\
 n\nMinigrenen deltager fra *søndag den 19. juli til torsdag den 23. juli
 *\n\nJuniorgrenen og troppen deltager i hele lejren fra *lørdag den 18. 
 juli til  \nsøndag den 26. juli*\n\n*Hvad koster det?*\n\nFor MINI: 1610\
 ,- kr. \n\nFor JUNIOR og TROP: 2475\,- kr. \n\n*Bemærk: *Prisen beregn
 es\, når du vælger gren i tilmeldingen.\n\nPrisen er fastsat af Spejdern
 es Lejr og inkluderer alle aktiviteter\,  \ntransport\, fysiske infrastru
 ktur (toiletter\, vandforsyning\, etc.)\, beredskab\,  \nmad som er 100% v
 egetarisk og primært økologisk samt alt omkring  \nplanlægning og nedbr
 ydning af lejren. Du får:   \n\n * En hel uge fyldt med aktiviteter\, u
 dfordringer og oplevelser.\n   \n * Et unikt fællesskab med spejdere fra 
 hele landet (og resten af verden).\n   \n * Oplevelsen af en spejderby\, h
 vor 30.000 af børn\, unge og voksne bor\,\n   leger\, lærer og arbejder 
 sammen.\n   \n * Minder for livet!\n   \n\nVi ved at prisen er højere end
  normale sommerlejre. Hvis den udgør en  \nvæsentlig hindring for spejde
 rnes deltagelse kan du kontakte gruppelederen  \npå gl@1holte.dk angåend
 e reduktion eller friplads. \n\n*Hvornår skal jeg tilmelde mig?* Nu - o
 g *SENEST den 8. februar*! Vi kan  \nikke garantere plads efter denne dat
 o.  \n\nLejrpladser tildeles tidligt i foråret efter antallet af tilmel
 dte fra  \ngruppen. Derfor *skal* vi vide\, hvor mange der deltager snar
 est muligt.  \nEftertilmeldinger vil kun være muligt i yderst begrænset 
 omfang og til en  \nhøjere pris.\n\nVed framelding refunderes deltagerpri
 sen fratrukket afmeldingsgebyr fastsat  \naf Spejdernes Lejr.\n\n
URL:https://www.1holte.dk/begivenhed/minijuniortrop-tilmelding-sl-2026
DTSTART:20260718T070000Z
DTEND:20260726T130000Z
LOCATION:Hedeland Naturpark\, Tranemosevej\, 2640 Hedehusene
END:VEVENT
BEGIN:VEVENT
UID:gruppeweb.dk:1615:event:8314
DTSTAMP:20260421T135441Z
LAST-MODIFIED:20260316T213116Z
SUMMARY:Oprykningsmøde sommer - for ALLE spejdere (2026)
DESCRIPTION:\n
URL:https://www.1holte.dk/begivenhed/oprykningsmoede-sommer-alle-spejdere-2
 026
DTSTART:20260819T160000Z
DTEND:20260819T180000Z
LOCATION:1. Holte Gruppe\, Havarthivej 6\, Øverød\, 2840 Holte
END:VEVENT
BEGIN:VEVENT
UID:gruppeweb.dk:1615:event:8338
DTSTAMP:20260421T135441Z
LAST-MODIFIED:20260415T062946Z
SUMMARY:Familieweekend 2026
DESCRIPTION:Sæt kryds i kalenderen til årets sjoveste weekend for hele fa
 milien -  \nFamiliewekend 2026\n\n
URL:https://www.1holte.dk/begivenhed/familieweekend-2026-0
DTSTART:20260926T073000Z
DTEND:20260927T090000Z
LOCATION:Avnstrup Spejdercenter\, Tjørnehusvej 8\, 4330 Hvalsø
END:VEVENT
BEGIN:VEVENT
UID:gruppeweb.dk:1615:event:8337
DTSTAMP:20260421T135441Z
LAST-MODIFIED:20260415T064326Z
SUMMARY:Familieweekend 2027
DESCRIPTION:Sæt kryds i kalenderen til årets sjoveste weekend for hele fa
 milien -  \nFamiliewekend 2027\n\n
URL:https://www.1holte.dk/begivenhed/familieweekend-2027
DTSTART:20270925T073000Z
DTEND:20270926T090000Z
LOCATION:Colleruphus\, Høje Sandbjergvej 11D\, 2840 Holte
END:VEVENT
END:VCALENDAR
